BEGIN:VCALENDAR
VERSION:2.0
PRODID:-//Vercors Handisport - ECPv6.15.20//NONSGML v1.0//EN
CALSCALE:GREGORIAN
METHOD:PUBLISH
X-WR-CALNAME:Vercors Handisport
X-ORIGINAL-URL:https://vercorshandisport.org
X-WR-CALDESC:Évènements pour Vercors Handisport
REFRESH-INTERVAL;VALUE=DURATION:PT1H
X-Robots-Tag:noindex
X-PUBLISHED-TTL:PT1H
BEGIN:VTIMEZONE
TZID:Europe/Paris
BEGIN:DAYLIGHT
TZOFFSETFROM:+0100
TZOFFSETTO:+0200
TZNAME:CEST
DTSTART:20250330T010000
END:DAYLIGHT
BEGIN:STANDARD
TZOFFSETFROM:+0200
TZOFFSETTO:+0100
TZNAME:CET
DTSTART:20251026T010000
END:STANDARD
BEGIN:DAYLIGHT
TZOFFSETFROM:+0100
TZOFFSETTO:+0200
TZNAME:CEST
DTSTART:20260329T010000
END:DAYLIGHT
BEGIN:STANDARD
TZOFFSETFROM:+0200
TZOFFSETTO:+0100
TZNAME:CET
DTSTART:20261025T010000
END:STANDARD
BEGIN:DAYLIGHT
TZOFFSETFROM:+0100
TZOFFSETTO:+0200
TZNAME:CEST
DTSTART:20270328T010000
END:DAYLIGHT
BEGIN:STANDARD
TZOFFSETFROM:+0200
TZOFFSETTO:+0100
TZNAME:CET
DTSTART:20271031T010000
END:STANDARD
END:VTIMEZONE
BEGIN:VEVENT
DTSTART;TZID=Europe/Paris:20260117T170000
DTEND;TZID=Europe/Paris:20260117T230000
DTSTAMP:20260426T024812
CREATED:20251214T212508Z
LAST-MODIFIED:20260104T161904Z
UID:14208-1768669200-1768690800@vercorshandisport.org
SUMMARY:La nuit des étoiles glissantes
DESCRIPTION:L’association Lou Balade organise une nocturne de ski de fond le 17 janvier sur le domaine nordique d’Herbouilly. Au programme :\n– Relais en binôme sur une petite boucle d’1Km\n– Un gros repas dans le foyer de ski de fond\n– Un concert par un petit groupe local \nInscriptions et infos par ici –> https://www.billetweb.fr/la-nuit-des-etoiles-filante
URL:https://vercorshandisport.org/event/la-nuit-des-etoiles-glissante/
CATEGORIES:Calendrier,Evénement
END:VEVENT
BEGIN:VEVENT
DTSTART;VALUE=DATE:20260120
DTEND;VALUE=DATE:20260126
DTSTAMP:20260426T024812
CREATED:20251021T082704Z
LAST-MODIFIED:20251117T162107Z
UID:13915-1768867200-1769385599@vercorshandisport.org
SUMMARY:Stage de ski de fond/biathlon au plateau de Beille (Pyrénées)
DESCRIPTION:le SKI CLUB DE BEILLE organise un stage national de ski nordique handisport sur le plateau de BEILLE \nPyrénées Ariégeoises 09 du 20 janvier au 25janvier 2026 \nCe stage est ouvert aux personnes ayant un handicap sensoriel ou moteur\, autonomes dans la vie quotidienne et aux guides expérimentés. \nL’encadrement sera coordonné sur le plan technique par deux monitrices/eurs diplômés\, formés à la pratique du ski nordique handisport. \nDes infos sur le stage (A lire absolument) (VHS n’étant pas organisateur\, vous ne trouverez pas de formulaire d’inscription\, mais une fiche d’inscription est disponible ci-dessous) : \nstage ski nordique beille 2026 \nPour s’inscrire\, veuillez le faire via cette fiche : \nInscriptions au Stage de ski nordique BEILLE2026 \nPour payer : \nRIB scBeille \nContacts : \nChristian ALLARD         06 79 32 48 65   christian.allard1@orange.fr \nPatrick CARBONNEL    06 78 11 07 16   carbonnel.patrick@wanadoo.fr \nOlivier BOSC                 06 95 84 07 05   boscolivier09@gmail.com \nAnnette PIQUEMAL      06 75 52 21 69   annette-piquemal@orange.fr
URL:https://vercorshandisport.org/event/stage-de-ski-de-fond-biathlon-au-plateau-de-beille-pyrenees/
LOCATION:Plateau de Beille\, France
CATEGORIES:Calendrier,Stages
ORGANIZER;CN="SKI CLUB DE BEILLE":MAILTO:info@skiclubdebeille.com
END:VEVENT
BEGIN:VEVENT
DTSTART;TZID=Europe/Paris:20260130T180000
DTEND;TZID=Europe/Paris:20260201T180000
DTSTAMP:20260426T024812
CREATED:20250604T100448Z
LAST-MODIFIED:20251117T161326Z
UID:13542-1769796000-1769968800@vercorshandisport.org
SUMMARY:Séjour du 30/01/2026 au 01/02/2026
DESCRIPTION:Les inscriptions sont closes pour ce séjour. \nDescription\n le gite le flourou voir lien https://www.leflourou.com/ peut nous accueillir pour un super week-end de ski de fond sur le domaine de la vallée de la Guisane. \n     L’hébergement possède 2 chambres PMR ( Une PMR et une valide/chambre PMR) sur 2 gites distants de 20 mètres dans le village ; il y a des chambres de 2\, 3/6 lits et chambre lits superposés 3-4 places avec sdb privative (!) ( voir le site web du gite pour plus de précisions). \n     Le départ des pistes de ski de fond est à moins de 100 mètres des gites.  \n     Le profil des pistes ( la pub de la station  parle de 92 km de pistes de ski de fond\, un peu moins je pense ) est très peu accidenté donc parfaitement adapté aux lugeurs dans un cadre magnifique. \n   Vous avez le choix entre 2 options \, sachant que depuis  Grenoble il faut compter environ 1h 45mn (2h en comptant large) de route par le col du Lautaret\, 3h de route depuis Avignon me dit la gardienne du gite.\n     option 1 : vous arrivez au gite le vendredi 30/01 avant 18h30 (pour vous mettre les pieds sous la table à 19h) avec un départ le dimanche fin d’après midi après le ski.\n     option 2 : vous arrivez dans la matinée du samedi 31/01 avec un départ le dimanche fin d’après midi après le ski. \n     Nous serions en 1/2 pension dans les 2 cas. \n      Dans les 2 cas\, on peut manger nos repas de midi  dans une salle/ cuisine d’un des gites équipée de plaques électriques et d’un frigo. Il faudra donc amener de quoi préparer nos repas de midi. \nPrincipe du paiement : les guides payent à l’inscription 69€ et c’est tout ; les handis payent un acompte de 69€ à l’inscription puis versent le solde (encore 69€) avant fin décembre 2025 (ce qui leur fait un total de 138€).\nPour le paiement avec Hello Asso\, veuillez cliquer sur ce lien : https://www.helloasso.com/associations/vercors-handisport/evenements/sejour-monetier-2026. Pour les handis\, il faudra y revenir pour solder le paiement.
URL:https://vercorshandisport.org/event/sejour-du-30-01-2026-au-01-02-2026/
LOCATION:gite le Flourou\, Monétier les Bains\, France
CATEGORIES:Calendrier,Evénement
ORGANIZER;CN="VHS - Vercors Handisport":MAILTO:vercorshandisport.mail@gmail.com
END:VEVENT
END:VCALENDAR