BEGIN:VCALENDAR
VERSION:2.0
PRODID:-//Vercors Handisport - ECPv6.15.20//NONSGML v1.0//EN
CALSCALE:GREGORIAN
METHOD:PUBLISH
X-WR-CALNAME:Vercors Handisport
X-ORIGINAL-URL:https://vercorshandisport.org
X-WR-CALDESC:Évènements pour Vercors Handisport
REFRESH-INTERVAL;VALUE=DURATION:PT1H
X-Robots-Tag:noindex
X-PUBLISHED-TTL:PT1H
BEGIN:VTIMEZONE
TZID:Europe/Paris
BEGIN:DAYLIGHT
TZOFFSETFROM:+0100
TZOFFSETTO:+0200
TZNAME:CEST
DTSTART:20250330T010000
END:DAYLIGHT
BEGIN:STANDARD
TZOFFSETFROM:+0200
TZOFFSETTO:+0100
TZNAME:CET
DTSTART:20251026T010000
END:STANDARD
BEGIN:DAYLIGHT
TZOFFSETFROM:+0100
TZOFFSETTO:+0200
TZNAME:CEST
DTSTART:20260329T010000
END:DAYLIGHT
BEGIN:STANDARD
TZOFFSETFROM:+0200
TZOFFSETTO:+0100
TZNAME:CET
DTSTART:20261025T010000
END:STANDARD
BEGIN:DAYLIGHT
TZOFFSETFROM:+0100
TZOFFSETTO:+0200
TZNAME:CEST
DTSTART:20270328T010000
END:DAYLIGHT
BEGIN:STANDARD
TZOFFSETFROM:+0200
TZOFFSETTO:+0100
TZNAME:CET
DTSTART:20271031T010000
END:STANDARD
BEGIN:DAYLIGHT
TZOFFSETFROM:+0100
TZOFFSETTO:+0200
TZNAME:CEST
DTSTART:20280326T010000
END:DAYLIGHT
BEGIN:STANDARD
TZOFFSETFROM:+0200
TZOFFSETTO:+0100
TZNAME:CET
DTSTART:20281029T010000
END:STANDARD
END:VTIMEZONE
BEGIN:VEVENT
DTSTART;TZID=Europe/Paris:20260613T080000
DTEND;TZID=Europe/Paris:20260614T170000
DTSTAMP:20260425T154939
CREATED:20260127T145655Z
LAST-MODIFIED:20260127T145757Z
UID:14375-1781337600-1781456400@vercorshandisport.org
SUMMARY:traversée du Vercors à pieds
DESCRIPTION:VHS propose une Traversée pédestre du Vercors sur deux jours et une nuit\, les 13 et 14 juin 2026. Toutes les informations et détails organisationnels et logistiques vous parviendront courant du mois d’avril lorsque nous vous demanderons de vous inscrire mais notez d’ores et déjà dans votre agenda la date de cet évènement. \nLe rendez-vous sera matinal à Corrençon le 13 juin où nous laisserons une ou deux voitures sur place afin de pouvoir transporter à notre retour les chauffeurs qui iront récupérer les véhicules qui nous auront emmenés au lieu de départ. \nLe départ se fera le 13 juin du parking du plateau de Beure  ( Au-dessus du Col du Rousset ). \nAprès une pause à la cabane de Pre Peyret (source des endettés) nous prendrons la direction de la plaine de la Queyrie  ou nous prendrons le repas de midi a la carrière romaine .  En traversant la plaine nous pourrons nous ravitailler en eau a la fontaine des Bachassons \nNous passerons par le pas des Chattons pour rejoindre la Jasse de la chau ( fontaine de la chaud ) en longeant la face Ouest du grand Veymont. \nNous envisageons un bivouac  a la Jasse du play. \nCompte tenu de la date  il est peu probable que nous puissions dormir en refuges\, il faudra donc prévoir les tentes pour le bivouac  et les repas pour 2 jours . \nLe lendemain nous repartons pour emprunter le Canyon des Erges  ( en descente ) \nLe repas de midi se fera soit au Pot du Play soit a la prairie de Darbenouze en fonction de l’avancement. \nNous rejoindrons ensuite Corrençon\, arrivée en fin d’après-midi le 14 juin.
URL:https://vercorshandisport.org/event/traversee-du-vercors-a-pieds/
LOCATION:Vercors\, France
END:VEVENT
BEGIN:VEVENT
DTSTART;VALUE=DATE:20270310
DTEND;VALUE=DATE:20270318
DTSTAMP:20260425T154939
CREATED:20260224T104232Z
LAST-MODIFIED:20260224T104232Z
UID:14587-1804636800-1805327999@vercorshandisport.org
SUMMARY:Marathon de l'Engadine
DESCRIPTION:Notre club participera en 2027 au marathon de l’Engadine\, avec 6 binômes handi-valide : 3 déficients visuels\, 2 « lugeurs » et 1 « mal marchant ».
URL:https://vercorshandisport.org/event/marathon-de-lengadine/
END:VEVENT
END:VCALENDAR