BEGIN:VCALENDAR
VERSION:2.0
PRODID:-//Vercors Handisport - ECPv6.15.20//NONSGML v1.0//EN
CALSCALE:GREGORIAN
METHOD:PUBLISH
X-ORIGINAL-URL:https://vercorshandisport.org
X-WR-CALDESC:Évènements pour Vercors Handisport
REFRESH-INTERVAL;VALUE=DURATION:PT1H
X-Robots-Tag:noindex
X-PUBLISHED-TTL:PT1H
BEGIN:VTIMEZONE
TZID:Europe/Paris
BEGIN:DAYLIGHT
TZOFFSETFROM:+0100
TZOFFSETTO:+0200
TZNAME:CEST
DTSTART:20250330T010000
END:DAYLIGHT
BEGIN:STANDARD
TZOFFSETFROM:+0200
TZOFFSETTO:+0100
TZNAME:CET
DTSTART:20251026T010000
END:STANDARD
BEGIN:DAYLIGHT
TZOFFSETFROM:+0100
TZOFFSETTO:+0200
TZNAME:CEST
DTSTART:20260329T010000
END:DAYLIGHT
BEGIN:STANDARD
TZOFFSETFROM:+0200
TZOFFSETTO:+0100
TZNAME:CET
DTSTART:20261025T010000
END:STANDARD
BEGIN:DAYLIGHT
TZOFFSETFROM:+0100
TZOFFSETTO:+0200
TZNAME:CEST
DTSTART:20270328T010000
END:DAYLIGHT
BEGIN:STANDARD
TZOFFSETFROM:+0200
TZOFFSETTO:+0100
TZNAME:CET
DTSTART:20271031T010000
END:STANDARD
END:VTIMEZONE
BEGIN:VEVENT
DTSTART;TZID=Europe/Paris:20260221T093000
DTEND;TZID=Europe/Paris:20260221T114500
DTSTAMP:20260426T054209
CREATED:20260217T164102Z
LAST-MODIFIED:20260217T164102Z
UID:14560-1771666200-1771674300@vercorshandisport.org
SUMMARY:sortie ski de fond
DESCRIPTION:Sortie ski de fond dans le Vercors ce samedi 21 février à 9h30. \nLes adhérents ont reçu un lien pour s’inscrire à la sortie\, si vous souhaitez participer mais n’avez pas reçu le lien\, contactez le club (vercorshandisport.mail@gmail.com). \nAu vu des conditions météo\, la sortie aura vraisemblablement lieu à Gève. Nous enverrons un message la veille pour préciser le style (classique ou skating) ainsi que le lieu et l’heure du rendez-vous.
URL:https://vercorshandisport.org/event/sortie-ski-de-fond-3/
LOCATION:Gève\, France
ORGANIZER;CN="VHS - Vercors Handisport":MAILTO:vercorshandisport.mail@gmail.com
END:VEVENT
END:VCALENDAR